BEGIN:VCALENDAR
VERSION:2.0
PRODID:-//wp-events-plugin.com//7.2.3.1//EN
BEGIN:VEVENT
UID:17@feuerwehr-gerdau.de
DTSTART;TZID=Europe/Berlin:20231120T190000
DTEND;TZID=Europe/Berlin:20231120T210000
DTSTAMP:20230608T201419Z
URL:https://feuerwehr-gerdau.de/events/ausbildungsdienst-7/
SUMMARY:Ausbildungsdienst
DESCRIPTION:
END:VEVENT
BEGIN:VTIMEZONE
TZID:Europe/Berlin
X-LIC-LOCATION:Europe/Berlin
BEGIN:STANDARD
DTSTART:20231029T020000
TZOFFSETFROM:+0200
TZOFFSETTO:+0100
TZNAME:CET
END:STANDARD
END:VTIMEZONE
END:VCALENDAR